BEGIN:VCALENDAR
VERSION:2.0
PRODID:-//Libreria Nuova Avventura - ECPv6.15.20//NONSGML v1.0//EN
CALSCALE:GREGORIAN
METHOD:PUBLISH
X-WR-CALNAME:Libreria Nuova Avventura
X-ORIGINAL-URL:https://www.librerianuovaavventura.it
X-WR-CALDESC:Eventi per Libreria Nuova Avventura
REFRESH-INTERVAL;VALUE=DURATION:PT1H
X-Robots-Tag:noindex
X-PUBLISHED-TTL:PT1H
BEGIN:VTIMEZONE
TZID:UTC
BEGIN:STANDARD
TZOFFSETFROM:+0000
TZOFFSETTO:+0000
TZNAME:UTC
DTSTART:20160101T000000
END:STANDARD
END:VTIMEZONE
BEGIN:VEVENT
DTSTART;TZID=UTC:20220623T213000
DTEND;TZID=UTC:20220623T230000
DTSTAMP:20260423T044828
CREATED:20220616T125538Z
LAST-MODIFIED:20220616T125538Z
UID:2806-1656019800-1656025200@www.librerianuovaavventura.it
SUMMARY:Francesco Muzzopappa presenta "Sarò breve"
DESCRIPTION:
URL:https://www.librerianuovaavventura.it/event/francesco-muzzopappa-presenta-saro-breve/
LOCATION:Ristorante Le Palme\, Viale Amerigo Vespucci\, 70\, Marina di Carrara\, MS\, 54033\, Italia
CATEGORIES:fazi,Presentazione
ATTACH;FMTTYPE=image/png:https://www.librerianuovaavventura.it/wp-content/uploads/2022/06/Muzzopappa-2022.png
END:VEVENT
BEGIN:VEVENT
DTSTART;TZID=UTC:20200208T180000
DTEND;TZID=UTC:20200208T193000
DTSTAMP:20260423T044828
CREATED:20200116T160816Z
LAST-MODIFIED:20200116T160816Z
UID:2115-1581184800-1581190200@www.librerianuovaavventura.it
SUMMARY:Claudio Lagomarsini presenta: "Ai sopravvissuti spareremo ancora"
DESCRIPTION:Siamo molto felici di poter presentare da noi in libreria sabato 8 febbraio l’opera prima di un nostro concittadino\, Claudio Lagomarsini\n\n\nCon “Ai sopravvissuti spareremo ancora” edito da Fazi Editore racconta una “tragedia della porta accanto” dai toni alti e trasfigurati. Il ritratto lucido e impietoso di un mondo al tramonto visto con gli occhi di un ragazzo\, impotente di fronte alla realtà in cui si trova a vivere.\n\n\nUn ragazzo\, ormai uomo\, torna nel paese natio per vendere la casa di famiglia e ripensa all’estate del 2002: le cene all’aperto\, le discussioni furibonde tra vicini\, il rapporto conflittuale tra la madre e la nonna\, litigi per un orto e comportamenti retrogradi. \n\n\n “Ai sopravvissuti spareremo ancora” racconta la quotidianità di un ambiente provinciale piccolo e meschino e l’angoscia di chi con questa quotidianità non riesce più ad avere a che fare. L’attaccamento ai confini della proprietà privata e l’atmosfera oppressiva del nucleo abitato al centro della storia sono il cuore di questo romanzo d’esordio\n\n\n \n\n\nClaudio Lagomarsini è ricercatore di Filologia romanza all’Università di Siena. Oltre a diverse pubblicazioni accademiche\, suoi articoli di approfondimento sono usciti per «Il Post»\, «minima&moralia»\, «Le parole e le cose». \n\n\nCome narratore\, ha pubblicato diversi racconti per «Nuovi Argomenti»\, «Colla» e «retabloid»\, vincendo un contest organizzato dal Premio Calvino nel 2019.
URL:https://www.librerianuovaavventura.it/event/claudio-lagomarsini-presenta-ai-sopravvissuti-spareremo-ancora/
LOCATION:Libreria Nuova Avventura\, via Felice Cavallotti 30\, Marina di Carrara\, MS\, 54033\, Italia
CATEGORIES:fazi,Presentazione
ATTACH;FMTTYPE=image/png:https://www.librerianuovaavventura.it/wp-content/uploads/2020/01/Presentazione-Lagomarsini-e1579194418506.png
END:VEVENT
BEGIN:VEVENT
DTSTART;TZID=UTC:20180706T080000
DTEND;TZID=UTC:20180706T230000
DTSTAMP:20260423T044828
CREATED:20180624T132009Z
LAST-MODIFIED:20180624T132009Z
UID:703-1530864000-1530918000@www.librerianuovaavventura.it
SUMMARY:Francesco Muzzopappa presenta "Heidi"
DESCRIPTION:“Hotel da incubo”\, “malattie imbarazzanti”\, “non sapevo di essere incinta” e “sepolti in casa” non bastano. Ormai la tv chiede sempre nuovi format\, sempre più paradossali\, sempre più surreali.\nSuccede anche in Videogramma\, un’azienda di contenuti in cui da anni lavora Chiara\, trentacinquenne milanese\, direttrice casting\, single\, irrisolta\, piena di paure e ossessioni. Il nuovo capo\, detto lo yeti\, chiamato anche per operare dei tagli\, costringerà tutti i dipendenti a proporre format innovativi\, pena il licenziamento immediato.\nMa la situazione complica quando suo padre\, Massimo Lombroso\, un vecchio critico letterario del «corriere della sera» malato di demenza selettiva\, viene cacciato dall’ospizio in cui è ricoverato perché ormai ingestibile. In attesa di trovare una nuova sistemazione\, Chiara lo terrà in casa con sé. La convivenza però non sarà facile: lui la scambia da sempre per Heidi\, il cartone animato che seguivano insieme quando lei era piccola. Tutto il suo mondo è popolato di caprette\, monti e Peter.\nE Peter verrà ribattezzato anche il ragazzo trovato da chiara per stare col padre quando lei è al lavoro\, un giovane premuroso e preparatissimo che si prenderà cura dell’uomo fino a diventare insostituibile.\nSarà proprio questa sua nuova strampalata famiglia a darle una mano e\, come per magia\, tutto si risolverà per il meglio\, non senza inaspettati e imprevedibili sviluppi. \nFrancesco Muzzopappa è uno tra i più conosciuti e apprezzati copywriter italiani. Per la categoria in cui eccelle\, le pubblicità radiofoniche\, ha vinto numerosi riconoscimenti in Italia e all’estero. Con Fazi Editore ha pubblicato nel 2013 “Una posizione scomoda”\, nel 2014 “Affari di famiglia” e nel 2017 “Dente per dente”.
URL:https://www.librerianuovaavventura.it/event/francesco-muzzopappa-presenta-heidi/
LOCATION:Ristorante Le Palme\, Viale Amerigo Vespucci\, 70\, Marina di Carrara\, MS\, 54033\, Italia
CATEGORIES:fazi,Presentazione
ATTACH;FMTTYPE=image/jpeg:https://www.librerianuovaavventura.it/wp-content/uploads/2018/06/Heidi_Muzzopappa-e1529853535364.jpg
END:VEVENT
BEGIN:VEVENT
DTSTART;TZID=UTC:20170923T180000
DTEND;TZID=UTC:20170923T180000
DTSTAMP:20260423T044828
CREATED:20170923T071706Z
LAST-MODIFIED:20170923T111031Z
UID:272-1506189600-1506189600@www.librerianuovaavventura.it
SUMMARY:Francesco Muzzopappa presenta "Dente per dente"
DESCRIPTION:Se Roma ha la GNAM (Galleria Nazionale d’Arte Moderna)\, Bologna il MAMBO (Museo d’Arte Moderna BOlogna) e a Napoli c’è il MADRE (Museo d’Arte contemporanea DonnaREgina)\, a Varese hanno pensato bene di inaugurare il Mu.CO (Museo d’arte COntemporanea). Qui\, a detta dei critici\, sono esposte le peggiori opere dei più grandi artisti contemporanei. Tra le altre\, un orribile Warhol\, un Dalí terrificante\, due drammatici Magritte e un Duchamp inguardabile. Leonardo ci lavora da tre anni. È un’assunzione obbligatoria: ha perso due dita in un incidente e insieme alle dita anche i sogni. Ha solo una grande certezza: si chiama Andrea\, una ragazza molto cattolica\, osservante e praticante\, che rispetta alla lettera i dieci comandamenti\, non dice parolacce e\, soprattutto\, non fa sesso. Non fa sesso con lui\, però\, perché Leonardo\, sul punto di farle la sua proposta di matrimonio a sorpresa\, la scopre a letto con un altro. Da quel momento\, la sua vita va in pezzi. Alla disperazione più nera\, tuttavia\, segue la vendetta. Leonardo decide di rifarsi su Andrea e sui suoi preziosi comandamenti. Li infrange tutti\, sistematicamente\, uno dopo l’altro.\nCon un’ironia corrosiva e una storia scandita da scene esilaranti\, Muzzopappa torna a dare il meglio di sé in un’inusuale commedia nera\, protagonista un tenero quanto agguerrito ragazzo innamorato. \nFrancesco Muzzopappa\, nato a Bari ma milanese ormai da anni\, è uno tra i più conosciuti e apprezzati copywriter italiani. Per la categoria in cui eccelle\, le pubblicità radiofoniche\, ha vinto numerosi riconoscimenti in Italia e all’estero. Le sue Fiabe brevi che finiscono malissimo\, realizzate in collaborazione con SIO\, sono popolarissime in rete\, e non. Con Fazi Editore ha pubblicato Affari di famiglia (nel 2014) e Una posizione scomoda.
URL:https://www.librerianuovaavventura.it/event/francesco-muzzopappa-presenta-dente-dente/
LOCATION:Cavallotti Caffè\, via Cavallotti 30\, Marina di Carrara\, MS\, 54033
CATEGORIES:fazi,Presentazione
ATTACH;FMTTYPE=image/jpeg:https://www.librerianuovaavventura.it/wp-content/uploads/2017/09/19.jpg
END:VEVENT
END:VCALENDAR