BEGIN:VCALENDAR
VERSION:2.0
PRODID:-//Libreria Nuova Avventura - ECPv6.15.20//NONSGML v1.0//EN
CALSCALE:GREGORIAN
METHOD:PUBLISH
X-WR-CALNAME:Libreria Nuova Avventura
X-ORIGINAL-URL:https://www.librerianuovaavventura.it
X-WR-CALDESC:Eventi per Libreria Nuova Avventura
REFRESH-INTERVAL;VALUE=DURATION:PT1H
X-Robots-Tag:noindex
X-PUBLISHED-TTL:PT1H
BEGIN:VTIMEZONE
TZID:UTC
BEGIN:STANDARD
TZOFFSETFROM:+0000
TZOFFSETTO:+0000
TZNAME:UTC
DTSTART:20160101T000000
END:STANDARD
END:VTIMEZONE
BEGIN:VEVENT
DTSTART;TZID=UTC:20171110T183000
DTEND;TZID=UTC:20171110T193000
DTSTAMP:20260423T042012
CREATED:20171015T135750Z
LAST-MODIFIED:20171026T124920Z
UID:298-1510338600-1510342200@www.librerianuovaavventura.it
SUMMARY:Sandro Campani presenta "Il giro del miele"
DESCRIPTION:Davide è un uomo semplice che ha un lavoro semplice: consegna il miele a domicilio nel paese dell’Appennino dove è nato e cresciuto. La faccia pulita\, le spalle e le mascelle larghe: ha l’aspetto di quello che le signore anziane chiamano “figliolo”\, o “giovanotto”. Le ragazze l’hanno sempre snobbato\, «ma tanto\, lui\, era innamorato della Silvia fin da quando erano piccoli».\nPerso il lavoro\, perso il grande amore\, spinto dalle circostanze della vita ha iniziato a bere\, lasciando entrare in sé una violenza che non è in grado di gestire.\nIl vecchio Giampiero invece è stato l’aiutante del padre di Davide. Ha una mano bruciata in seguito all’incendio della falegnameria in cui lavorava\, ma soprattutto ha una moglie amata\, l’Ida. Non sono riusciti ad avere figli. Ha visto crescere Davide\, e lo accoglie ora\, a tarda notte\, quando viene a bussare alla sua porta. \nSandro Campani vive e lavora in un paese dell’Appennino tosco-emiliano\, dove è nato nel 1974. Ha pubblicato È dolcissimo non appartenerti piú (Playground 2005)\, Nel paese del Magnano (Italic Pequod 2010) e La terra nera (Rizzoli 2013). Per Einaudi ha pubblicato Il giro del miele (2017).
URL:https://www.librerianuovaavventura.it/event/sandro-campani-presenta-giro-del-miele/
LOCATION:Cavallotti Caffè\, via Cavallotti 30\, Marina di Carrara\, MS\, 54033
CATEGORIES:Presentazione
ATTACH;FMTTYPE=image/jpeg:https://www.librerianuovaavventura.it/wp-content/uploads/2017/10/9788806228910_0_0_1592_75-e1508083028835.jpg
END:VEVENT
BEGIN:VEVENT
DTSTART;TZID=UTC:20170615T200000
DTEND;TZID=UTC:20170615T230000
DTSTAMP:20260423T042012
CREATED:20170517T111002Z
LAST-MODIFIED:20170517T113721Z
UID:109-1497556800-1497567600@www.librerianuovaavventura.it
SUMMARY:Silvia Bencivelli presenta "Le mie amiche streghe"
DESCRIPTION:Silvia Bencivelli\nAlice detesta le cose semplici\, soprattutto se sono anche sbagliate. Fa la giornalista scientifica\, perciò il mondo è abituata a interrogarlo e poi a raccontarlo. Anche alle sue amiche\, che intrattiene per ore con le sue storie bislacche di scienziati.\nD’un tratto però le sue amiche sono diventate tutte streghe. Cioè\, sono ancora le stesse di sempre\, eppure sono diventate incomprensibili. Credono alle pozioni magiche\, ai piani astrali\, ai complotti\, ai rimedi della medicina non ufficiale.\nValeria\, per esempio\, spera di far girare il feto podalico che ha in grembo facendo le capriole in acqua. Vuole evitare il cesareo a tutti i costi perché ha letto su internet che non è il modo migliore per iniziare il rapporto con suo figlio. E dire che la nonna di Alice\, ai suoi tempi\, un parto podalico se l’è fatto per via naturale aiutata solo da una bottiglia di brandy\, e a distanza di settant’anni non è affatto certa che sia stato un bel modo per iniziare alcunché. E poi c’è Lucia\, fissata con l’alimentazione sana e i prodotti bio. E Arianna\, medico anestesista\, che si scopre fautrice dell’omeopatia. E ancora quella che non vuole vaccinare i figli\, quella che segue l’ultima dieta del momento\, quella che legge il futuro negli oroscopi.\nAlice si arrabbia\, cerca di farle ragionare\, e a volte pontifica\, perché sembra incapace di vedere anche lei una semplice realtà\, cioè che le emozioni possono tradire. Un romanzo d’esordio brillante e originale sulle nostre superstizioni ma soprattutto sulle nostre fragilità\, che ha il coraggio di affrontare ironicamente temi molto dibattuti conquistandoci con la voce irresistibile della sua autrice. \nSilvia Bencivelli è laureata in medicina e chirurgia ma fa la giornalista scientifica e la conduttrice radiotelevisiva. Dal 2016 è tra i conduttori di Tutta Salute\, in onda ogni mattina su Rai3\, e da dieci anni tra le voci di Radio3 Scienza. Scrive per «la Repubblica» e «Le Scienze». Insegna giornalismo scientifico alla Sapienza di Roma. Ha pubblicato diversi libri tra cui Perché ci piace la musica (Sironi 2007 e 2012\, tradotto all’estero) ed È la medicina\, bellezza! (con Daniela Ovadia\, Carocci 2016). Le mie amiche streghe è il suo primo romanzo.
URL:https://www.librerianuovaavventura.it/event/silvia-bencivelli-presenta-le-mie-amiche-streghe/
LOCATION:Ristorante Le Palme\, Viale Amerigo Vespucci\, 70\, Marina di Carrara\, MS\, 54033\, Italia
ATTACH;FMTTYPE=image/jpeg:https://www.librerianuovaavventura.it/wp-content/uploads/2017/05/le-mie-amiche-streghe.jpg
END:VEVENT
END:VCALENDAR