BEGIN:VCALENDAR
VERSION:2.0
PRODID:-//Libreria Nuova Avventura - ECPv6.15.20//NONSGML v1.0//EN
CALSCALE:GREGORIAN
METHOD:PUBLISH
X-WR-CALNAME:Libreria Nuova Avventura
X-ORIGINAL-URL:https://www.librerianuovaavventura.it
X-WR-CALDESC:Eventi per Libreria Nuova Avventura
REFRESH-INTERVAL;VALUE=DURATION:PT1H
X-Robots-Tag:noindex
X-PUBLISHED-TTL:PT1H
BEGIN:VTIMEZONE
TZID:UTC
BEGIN:STANDARD
TZOFFSETFROM:+0000
TZOFFSETTO:+0000
TZNAME:UTC
DTSTART:20160101T000000
END:STANDARD
END:VTIMEZONE
BEGIN:VEVENT
DTSTART;TZID=UTC:20171114T170000
DTEND;TZID=UTC:20171114T190000
DTSTAMP:20260423T062943
CREATED:20171102T195058Z
LAST-MODIFIED:20171102T195058Z
UID:331-1510678800-1510686000@www.librerianuovaavventura.it
SUMMARY:Cristiana Barandoni presenta "L'incredibile storia dei Faraoni"
DESCRIPTION:441 faraoni per una storia millenaria che va dal 2920 al 30 a.C.: è questa la portata di una civiltà complessa come quella dell’antico Egitto.\nUna fase lunghissima\, che inizia con il cosiddetto Periodo Protodinastico e si conclude con la dinastia Tolemaica\, con la famosa Cleopatra. Ma chi erano realmente i faraoni? Quali erano le loro effettive mansioni\, cosa sapeva di loro il popolo e cosa lasciavano conoscere di se stessi agli altri? Ritenuti divinità così sacre da non poter essere guardate in volto\, che cosa facevano all’ombra dei loro giganteschi palazzi reali?\nPartendo dalle misteriose Liste Reali\, conosceremo la vita e le opere di alcuni tra i 200 faraoni in esse menzionati. Dal faraone Narmer alla regina che fece battere il cuore ai Romani\, si susseguono vicende personali mescolate a vicende storiche; periodi che videro avvicendarsi addirittura 70 faraoni in meno di 100 anni\, a periodi di grande pace come quello del Nuovo Regno\, epoca d’oro nella quale 15 sovrani provenienti da Tebe trasformarono letteralmente il volto dell’Egitto.\nUn viaggio nella storia lungo quasi 5000 anni\, per immergerci in alcuni degli episodi più significativi della civiltà egizia e guardarli attraverso gli occhi dei veri protagonisti. \nCristiana Barandoni si è laureata in Archeologia classica a Pisa e si è specializzata in Archeo-sismologia a Firenze. Nella vita di tutti i giorni si occupa di archeologia pubblica\, social media e communication strategy per diversi musei e istituzioni culturali.\nQuesto è il suo secondo saggio con la Newton Compton\, dopo I misteri dell’archeologia 2016.
URL:https://www.librerianuovaavventura.it/event/cristiana-barandoni-presenta-lincredibile-storia-dei-faraoni/
LOCATION:Accademia di Belle Arti\, via Roma 1\, Carrara\, MS\, 54033\, Italia
CATEGORIES:Presentazione
ATTACH;FMTTYPE=image/jpeg:https://www.librerianuovaavventura.it/wp-content/uploads/2017/11/v32ayoe3-e1509655912961.jpg
END:VEVENT
END:VCALENDAR